BEGIN:VCALENDAR
VERSION:2.0
PRODID:-//Grow - ECPv6.5.0//NONSGML v1.0//EN
CALSCALE:GREGORIAN
METHOD:PUBLISH
X-ORIGINAL-URL:https://growbusiness.org
X-WR-CALDESC:Events for Grow
REFRESH-INTERVAL;VALUE=DURATION:PT1H
X-Robots-Tag:noindex
X-PUBLISHED-TTL:PT1H
BEGIN:VTIMEZONE
TZID:America/Detroit
BEGIN:DAYLIGHT
TZOFFSETFROM:-0500
TZOFFSETTO:-0400
TZNAME:EDT
DTSTART:20240310T070000
END:DAYLIGHT
BEGIN:STANDARD
TZOFFSETFROM:-0400
TZOFFSETTO:-0500
TZNAME:EST
DTSTART:20241103T060000
END:STANDARD
END:VTIMEZONE
BEGIN:VEVENT
DTSTART;TZID=America/Detroit:20241114T173000
DTEND;TZID=America/Detroit:20241114T190000
DTSTAMP:20260424T103518
CREATED:20241031T201600Z
LAST-MODIFIED:20241104T225948Z
UID:18154-1731605400-1731610800@growbusiness.org
SUMMARY:Grow Quarterly Goal Planning Workshop
DESCRIPTION:Join us on Thursday\, November 14th\, 2024 from 5:30pm -7pm at 1333 Alger Ave SE\, Grand Rapids\, MI 49507 for our Quarterly Goal planning workshop catered to new and start up entrepreneurs who would like assistance planning out the first  quarter of the year.  This will be an opportunity for entrepreneurs to maximize on their revenue\, customer\, and growth goals. \nComplimentary parking is available in the attached parking lot as well as street parking surrounding the building. \nLight snacks will be provided.
URL:https://growbusiness.org/event/grow-quarterly-goal-planning-workshop/
LOCATION:1333 Alger St. SE\, Grand Rapids\, MI 49507\, 1333 Alger St. SE\, Grand Rapids\, MI\, 49507\, United States
ATTACH;FMTTYPE=image/png:https://growbusiness.org/wp-content/uploads/2024/10/Grow-QuarterlyGoalPlanning-v2.png
END:VEVENT
END:VCALENDAR