BEGIN:VCALENDAR
VERSION:2.0
PRODID:-//Grow - ECPv6.5.0//NONSGML v1.0//EN
CALSCALE:GREGORIAN
METHOD:PUBLISH
X-WR-CALNAME:Grow
X-ORIGINAL-URL:https://growbusiness.org
X-WR-CALDESC:Events for Grow
REFRESH-INTERVAL;VALUE=DURATION:PT1H
X-Robots-Tag:noindex
X-PUBLISHED-TTL:PT1H
BEGIN:VTIMEZONE
TZID:America/Detroit
BEGIN:DAYLIGHT
TZOFFSETFROM:-0500
TZOFFSETTO:-0400
TZNAME:EDT
DTSTART:20250309T070000
END:DAYLIGHT
BEGIN:STANDARD
TZOFFSETFROM:-0400
TZOFFSETTO:-0500
TZNAME:EST
DTSTART:20251102T060000
END:STANDARD
END:VTIMEZONE
BEGIN:VEVENT
DTSTART;TZID=America/Detroit:20250212T173000
DTEND;TZID=America/Detroit:20250212T190000
DTSTAMP:20260424T071348
CREATED:20250123T201024Z
LAST-MODIFIED:20250130T171226Z
UID:18189-1739381400-1739386800@growbusiness.org
SUMMARY:Simplificación de los conceptos básicos sobre impuestos comerciales: lo que todo empresario necesita saber
DESCRIPTION:Este taller está diseñado para simplificar el complejo mundo de los impuestos comerciales\, ayudando a los empresarios a ahorrar tiempo\, reducir el estrés y evitar errores costosos.\n\nEn esta sesión de 90 minutos\, los empresarios aprenderán:\n\n-Terminología fiscal clave que todo propietario de una empresa debería conocer.\n-Cómo identificar la estructura empresarial adecuada a efectos fiscales.\n– Algunos consejos sobre deducciones y créditos: Lo que puedes (y no puedes) deducir.\n-Errores fiscales comunes y cómo evitarlos.\n\nQuién debería asistir:\nEmpresarios\, propietarios de pequeñas empresas\, trabajadores autónomos (cuenta propia) y cualquiera que busque comprender mejor los conceptos básicos de los impuestos comerciales.\n\nPresentadora: Jenny Gomez de Triple A Multiple Services
URL:https://growbusiness.org/event/simplifying-business-tax-basics-what-every-entrepreneur-needs-to-know-spanish/
LOCATION:1333 Alger St. SE\, Grand Rapids\, MI 49507\, 1333 Alger St. SE\, Grand Rapids\, MI\, 49507\, United States
ATTACH;FMTTYPE=image/jpeg:https://growbusiness.org/wp-content/uploads/2025/01/Grow-TaxPlanning-SPANISH@4x.jpg
END:VEVENT
END:VCALENDAR