BEGIN:VCALENDAR
VERSION:2.0
PRODID:-//Grow - ECPv6.5.0//NONSGML v1.0//EN
CALSCALE:GREGORIAN
METHOD:PUBLISH
X-ORIGINAL-URL:https://growbusiness.org
X-WR-CALDESC:Events for Grow
REFRESH-INTERVAL;VALUE=DURATION:PT1H
X-Robots-Tag:noindex
X-PUBLISHED-TTL:PT1H
BEGIN:VTIMEZONE
TZID:America/Detroit
BEGIN:DAYLIGHT
TZOFFSETFROM:-0500
TZOFFSETTO:-0400
TZNAME:EDT
DTSTART:20250309T070000
END:DAYLIGHT
BEGIN:STANDARD
TZOFFSETFROM:-0400
TZOFFSETTO:-0500
TZNAME:EST
DTSTART:20251102T060000
END:STANDARD
END:VTIMEZONE
BEGIN:VEVENT
DTSTART;TZID=America/Detroit:20250205T173000
DTEND;TZID=America/Detroit:20250205T190000
DTSTAMP:20260424T042743
CREATED:20250123T200803Z
LAST-MODIFIED:20250130T171348Z
UID:18186-1738776600-1738782000@growbusiness.org
SUMMARY:Simplifying Business Tax Basics: What Every Entrepreneur Needs to Know (ENGLISH)
DESCRIPTION:This session is being held in English only.  \nThis workshop is designed to simplify the complex world of business taxes\, helping entrepreneurs save time\, reduce stress\, and avoid costly mistakes.  In this 90-minute session\, entrepreneurs will learn:  -Key tax terminology every business owner should know. -How to identify the right business structure for tax purposes. – Some tips on Deductions and credits: What you can (and can’t) write off. -Common tax mistakes and how to avoid them.  Who Should Attend: Entrepreneurs\, small business owners\, freelancers\, and anyone looking to better understand the basics of business taxes.  Presenter: Jenny Gomez of Triple A Multiple Services 
URL:https://growbusiness.org/event/simplifying-business-tax-basics-what-every-entrepreneur-needs-to-know-english/
LOCATION:1333 Alger St. SE\, Grand Rapids\, MI 49507\, 1333 Alger St. SE\, Grand Rapids\, MI\, 49507\, United States
ATTACH;FMTTYPE=image/png:https://growbusiness.org/wp-content/uploads/2025/01/Grow-Eventbrite-Feb-Simplifying-Business-Tax-Basics.png
END:VEVENT
END:VCALENDAR